Workbook

Sheet 交付申請書
P2: 申請日 | R2: 令和 | U2: 年 | W2: 月 | Y2: 日
C4: （宛先）金沢市長
B6: 金沢市中小企業賃金引上げ奨励金交付申請書
B8: 金沢市中小企業賃金引上げ奨励金交付要綱に規定する賃金の引上げを実施したので、次のとおり関係書類を
B9: 添えて奨励金の交付を申請します。
B11: １ 申請者の情報
B12: 法人名・屋号 | AB12: ←本社・本店が市外にある場合でも、本社名を記載してください
B13: 代表者 役職名 | O13: 代表者 氏名
B14: 法人／個人事業主 | K14: １．法人 ２．個人事業主 | AB14: ←プルダウンで選択
B15: 法人所在地 法人：本社／個人事業主：住民登録地 | H15: 〒
AB16: ←法人の場合：本社または本店住所 個人事業主の場合：住民登録地
B17: 市内事業所所在地 ※複数ある場合は申請書下部記載 | H17: 〒
AB18: ←法人の場合：市内の事業所住所 個人事業主の場合：市内の事業所所在地 | AP18: １．小売業 | AS18: A農業・林業
B19: 業種 | D19: 主たる業種 | K19: １．小売業 ２．サービス業 ３．卸売業 ４．その他の業種（１～３除く） | AB19: ←プルダウンで選択 | AP19: ２．サービス業 | AS19: B漁業
D20: 大分類 | K20: A農業・林業，B漁業，C鉱業・採石業・砂利採取業，D建設業，E製造業，F電気・ガス・熱供給・水道業，G情報通信業，H運輸業・郵便業，I卸売業・小売業，J金融業・保険業，K不動産業・物品賃貸業，L学術研究・専門・技術サービス業，M宿泊業・飲食サービス業，N生活関連サービス業・娯楽業，O教育・学習支援業，P医療・福祉，Q複合サービス事業，Rサービス業他に分類されないもの | AB20: ←プルダウンで選択 | AP20: ３．卸売業 | AS20: C鉱業・採石業・砂利採取業
B21: 常時使用する従業員の数 | M21: 人 | O21: 資本金の額 法人のみ | X21: 万円 | AB21: ←本社・支店（県外含む）を含めた従業員数を記入してください | AP21: ４．その他の業種 | AS21: D建設業
B22: 担当者 役職名 発行責任者 | O22: 担当者 氏名 | AS22: E製造業
B23: 電話／携帯電話番号 | O23: メールアドレス | AB23: ←申請内容について確認する場合があるため、担当者につながる番号を記載してください。 | AS23: F電気・ガス・熱供給・水道業
AS24: G情報通信業
B25: ２ 交付申請の内容 | AS25: H運輸業・郵便業
B26: 賃金引上げ対象従業員 （最大10人） | M26: 人 | AS26: I卸売業・小売業
B27: 交付申請額 自動入力 | H27: =H26*50000 -> 0 | M27: 円 | AS27: J金融業・保険業
AS28: K不動産業・物品賃貸業
B29: ３ 宣誓・同意事項 | AS29: L学術研究・専門・技術サービス業
B30: 金沢市中小企業賃金引上げ奨励金申請要領８ページに記載の宣誓・同意事項を全て確認し、下記の項目で | AS30: M宿泊業・飲食サービス業
B31: 「宣誓・同意します」を選択してください。 | AS31: N生活関連サービス業・娯楽業
B32: 申請要領に記載のある宣誓・同意事項について | AB32: ←プルダウンで選択 | AS32: O教育・学習支援業
AS33: P医療・福祉
B34: ※複数の市内事業所がある場合（対象従業員のいる事業所のみ） | AS34: Q複合サービス事業
B35: 市内事業所所在地② | H35: 〒 | AS35: Rサービス業※他に分類されないもの
H36: 金沢市
B37: 市内事業所所在地③ | H37: 〒
H38: 金沢市
A40: =T2 -> 0 | B40: =V2 -> 0 | C40: =X2 -> 0 | D40: =H14 -> 0 | E40: =I15 -> 0 | F40: =H16 -> 0 | G40: =I17 -> 0 | H40: =J18 -> 0 | I40: =H12 -> 0 | J40: =H13 -> 0 | K40: =S13 -> 0 | L40: =H19 -> 0 | M40: =H20 -> 0 | N40: =H21 -> 0 | O40: =S21 -> 0 | P40: =H22 -> 0 | Q40: =S22 -> 0 | R40: =H23 -> 0 | S40: =S23 -> 0 | T40: =H26 -> 0 | U40: =H27 -> 0 | V40: =S32 | W40: =I35 -> 0 | X40: =J36 -> 0 | Y40: =I37 -> 0 | Z40: =J38 -> 0

Sheet 交付申請書 (記載例)
P2: 申請日 | R2: 令和 | U2: 年 | W2: 月 | Y2: 日
C4: （宛先）金沢市長
B6: 金沢市中小企業賃金引上げ奨励金交付申請書
B8: 金沢市中小企業賃金引上げ奨励金交付要綱に規定する賃金の引上げを実施したので、次のとおり関係書類を
B9: 添えて奨励金の交付を申請します。
B11: １ 申請者の情報
B12: 法人名・屋号 | H12: 株式会社金沢工業 | AB12: ←本社・本店が市外にある場合でも、本社名を記載してください | AR12: =CONCATENATE(AR13,AR19,AR20,AR21,AR22,AR23,AR24,AR25,#REF!,AR26,AR27,AR28,#REF!,#REF!,#REF!,#REF!,#REF!,#REF!,#REF!,#REF!,#REF!) -> #REF!
B13: 代表者 役職名 | H13: 代表取締役 | O13: 代表者 氏名 | S13: 広坂 一郎 | AP13: １．小売業 | AS13: A農業・林業
B14: 法人／個人事業主 | H14: １．法人 | K14: １．法人 ２．個人事業主 | AB14: ←プルダウンで選択
B15: 法人所在地 法人：本社／個人事業主：住民登録地 | H15: 〒 | I15: 920-8577
H16: 金沢市広坂１丁目１番１号 | AB16: ←法人の場合：本社または本店住所 個人事業主の場合：住民登録地
B17: 市内事業所所在地 ※複数ある場合は申請書下部記載 | H17: 〒 | I17: 920-0999
H18: 金沢市柿木畠1番1号 | AB18: ←法人の場合：市内の事業所住所 個人事業主の場合：市内の事業所所在地
B19: 業種 | D19: 主たる業種 | H19: ４．その他の業種 | K19: １．小売業 ２．サービス業 ３．卸売業 ４．その他の業種（１～３除く） | AB19: ←プルダウンで選択 | AP19: ２．サービス業 | AS19: B漁業
D20: 大分類 | H20: E製造業 | K20: A農業・林業，B漁業，C鉱業・採石業・砂利採取業，D建設業，E製造業，F電気・ガス・熱供給・水道業，G情報通信業，H運輸業・郵便業，I卸売業・小売業，J金融業・保険業，K不動産業・物品賃貸業，L学術研究・専門・技術サービス業，M宿泊業・飲食サービス業，N生活関連サービス業・娯楽業，O教育・学習支援業，P医療・福祉，Q複合サービス事業，Rサービス業他に分類されないもの | AB20: ←プルダウンで選択 | AP20: ３．卸売業 | AS20: C鉱業・採石業・砂利採取業
B21: 常時使用する従業員の数 | H21: 50 | M21: 人 | O21: 資本金の額 法人のみ | S21: 2000 | X21: 万円 | AB21: ←本社・支店（県外含む）を含めた従業員数を記入してください | AP21: ４．その他の業種 | AS21: D建設業
B22: 担当者 役職名 発行責任者 | H22: 総務部 | O22: 担当者 氏名 | S22: 石川 健 | AS22: E製造業
B23: 電話／携帯電話番号 | H23: 090-XXXX-XXXX | O23: メールアドレス | S23: kanazawa@abc.jp | AB23: ←申請内容について確認する場合があるため、担当者につながる番号を記載してください。 | AS23: F電気・ガス・熱供給・水道業
AS24: G情報通信業
B25: ２ 交付申請の内容 | AS25: H運輸業・郵便業
B26: 賃金引上げ対象従業員 （最大10人） | H26: 3 | M26: 人 | AS26: I卸売業・小売業
B27: 交付申請額 自動入力 | H27: =H26*50000 -> 150000 | M27: 円 | AS27: J金融業・保険業
AS28: K不動産業・物品賃貸業
B29: ３ 宣誓・同意事項 | AS29: L学術研究・専門・技術サービス業
B30: 金沢市中小企業賃金引上げ奨励金申請要領８ページに記載の宣誓・同意事項を全て確認し、下記の項目で | AS30: M宿泊業・飲食サービス業
B31: 「宣誓・同意します」を選択してください。 | AS31: N生活関連サービス業・娯楽業
B32: 申請要領に記載のある宣誓・同意事項について | S32: 誓約・同意します | AB32: ←プルダウンで選択 | AS32: O教育・学習支援業
AS33: P医療・福祉
B34: ※複数の市内事業所がある場合（対象従業員のいる事業所のみ） | AS34: Q複合サービス事業
B35: 市内事業所所在地② | H35: 〒 | AS35: Rサービス業※他に分類されないもの
H36: 金沢市
B37: 市内事業所所在地③ | H37: 〒
H38: 金沢市

Sheet Sheet1
B1: 1 | C1: ＩＰ | D1: 1 | E1: ○ | G1: 1 | H1: ＩＴパスポート試験
B2: 2 | C2: ＳＧ | G2: 2 | H2: 情報セキュリティマネジメント試験
B4: 1 | C4: 法人 | G4: 1 | H4: 対面講座
B5: 2 | C5: 個人事業主 | G5: 2 | H5: 通信講座
G6: 3 | H6: オンライン（eラーニング等）
B7: 1 | C7: 製造業、建設業、運輸業、その他の業種（下記２～４除く） | G7: 4 | H7: その他
B8: 2 | C8: 卸売業
B9: 3 | C9: サービス業
B10: 4 | C10: 小売業
B12: 1 | C12: ソフトウェア業
B13: 2 | C13: 情報処理・提供ービス業
B14: 3 | C14: コンピュータ及び周辺機器製造又は販売業
B15: 4 | C15: 農業、林業、漁業、鉱業
B16: 5 | C16: 建設業
B17: 6 | C17: 製造業
B18: 7 | C18: 電気・ガス・熱供給・水道業
B19: 8 | C19: 運輸・通信業
B20: 9 | C20: 卸売・小売業、飲食店
... B26: 15 | C26: その他
D28: 基準 | F28: 判定 | J28: →該当有＝ | K28: 0
C29: 業種 | D29: 資本金 | E29: 従業員 | F29: 資本金 | G29: 従業員 | H29: 合計 | J29: 該当無＝ | K29: 1
A30: =IF(#REF!=Sheet1!B30,"〇","") -> #REF! | B30: 1 | C30: 製造業・建設業・運輸業その他の業種 | D30: 30000 | E30: 300 | F30: =IF(#REF!<=Sheet1!$D30,$K$28,$K$29) -> #REF! | G30: =IF(#REF!<=Sheet1!$E30,$K$28,$K$29) -> #REF! | H30: =SUM(F30:G30) -> #REF!
A31: =IF(#REF!=Sheet1!B31,"〇","") -> #REF! | B31: 2 | C31: 卸売業 | D31: 10000 | E31: 100 | F31: =IF(#REF!<=Sheet1!$D31,$K$28,$K$29) -> #REF! | G31: =IF(#REF!<=Sheet1!$E31,$K$28,$K$29) -> #REF! | H31: =SUM(F31:G31) -> #REF!
A32: =IF(#REF!=Sheet1!B32,"〇","") -> #REF! | B32: 3 | C32: サービス業 | D32: 5000 | E32: 100 | F32: =IF(#REF!<=Sheet1!$D32,$K$28,$K$29) -> #REF! | G32: =IF(#REF!<=Sheet1!$E32,$K$28,$K$29) -> #REF! | H32: =SUM(F32:G32) -> #REF!
A33: =IF(#REF!=Sheet1!B33,"〇","") -> #REF! | B33: 4 | C33: 小売業 | D33: 5000 | E33: 50 | F33: =IF(#REF!<=Sheet1!$D33,$K$28,$K$29) -> #REF! | G33: =IF(#REF!<=Sheet1!$E33,$K$28,$K$29) -> #REF! | H33: =SUM(F33:G33) -> #REF!
