Workbook

Sheet （様式２）賃金引上げ計算書
A1: 賃金引上げ計算書 | N1: 46114
B3: 法人名・屋号
B4: 賃金引上げ対象労働者数 | E4: 人
B5: 賃金締切日 | H5: 日
B6: 賃金支払日 | H6: 日
B7: 賃上げ後の最初の賃金支払日 | D7: 令和８年 | F7: 月 | H7: 日
B8: 申請する賃金引上げを行った対象労働者は、金沢市内の事業所に勤務する従業員です。
B10: № | C10: 対象労働者氏名 | D10: 35歳未満（R8.4.1時点） | I10: 賃上げ率５％ | M10: 計
D11: 生年月日 yyyy/mm/dd | E11: 年齢 | G11: ① | I11: 引上げ前の 最低賃金の対象となる賃金 A | J11: 引上げ後の 最低賃金の対象となる賃金 B | K11: 賃上げ率 (B-A)/A | L11: ②
B12: 例 | C12: 金沢 太郎 | D12: 34700 | E12: =IF(D12="","",DATEDIF(D12,$N$1,"Y")) -> 31 | G12: =IF(E12="","",(IF(E12<35,"○","×"))) -> ○ | I12: 200000 | J12: 210000 | K12: =IF(J12="","",ROUNDDOWN((J12-I12)/I12,3)) -> 0.05 | L12: =IF(K12="","",(IF(K12>=0.05,"○","×"))) -> ○ | M12: =IF(AND(G12="○",(L12="○")),50000,0) -> 50000
B13: 1 | C13: =IF(VLOOKUP($B13,対象賃金内訳!$A$7:$Q$16,2,FALSE)="","",(VLOOKUP($B13,対象賃金内訳!$A$7:$Q$16,2,FALSE))) | E13: =IF(D13="","",DATEDIF(D13,$N$1,"Y")) | G13: =IF(E13="","",(IF(E13<35,"○","×"))) | I13: =VLOOKUP($B13,対象賃金内訳!$A$7:$Q$16,10,FALSE) -> 0 | J13: =VLOOKUP($B13,対象賃金内訳!$A$7:$Q$16,17,FALSE) -> 0 | K13: =IF(D13="","",ROUNDDOWN((J13-I13)/I13,3)) | L13: =IF(K13="","",(IF(K13>=0.05,"○","×"))) | M13: =IF(AND(G13="○",(L13="○")),50000,0) -> 0
B14: 2 | C14: =IF(VLOOKUP($B14,対象賃金内訳!$A$7:$Q$16,2,FALSE)="","",(VLOOKUP($B14,対象賃金内訳!$A$7:$Q$16,2,FALSE))) | E14: =IF(D14="","",DATEDIF(D14,$N$1,"Y")) | G14: =IF(E14="","",(IF(E14<35,"○","×"))) | I14: =VLOOKUP($B14,対象賃金内訳!$A$7:$Q$16,10,FALSE) -> 0 | J14: =VLOOKUP($B14,対象賃金内訳!$A$7:$Q$16,17,FALSE) -> 0 | K14: =IF(D14="","",ROUNDDOWN((J14-I14)/I14,3)) | L14: =IF(K14="","",(IF(K14>=0.05,"○","×"))) | M14: =IF(AND(G14="○",(L14="○")),50000,0) -> 0
B15: 3 | C15: =IF(VLOOKUP($B15,対象賃金内訳!$A$7:$Q$16,2,FALSE)="","",(VLOOKUP($B15,対象賃金内訳!$A$7:$Q$16,2,FALSE))) | E15: =IF(D15="","",DATEDIF(D15,$N$1,"Y")) | G15: =IF(E15="","",(IF(E15<35,"○","×"))) | I15: =VLOOKUP($B15,対象賃金内訳!$A$7:$Q$16,10,FALSE) -> 0 | J15: =VLOOKUP($B15,対象賃金内訳!$A$7:$Q$16,17,FALSE) -> 0 | K15: =IF(D15="","",ROUNDDOWN((J15-I15)/I15,3)) | L15: =IF(K15="","",(IF(K15>=0.05,"○","×"))) | M15: =IF(AND(G15="○",(L15="○")),50000,0) -> 0
B16: 4 | C16: =IF(VLOOKUP($B16,対象賃金内訳!$A$7:$Q$16,2,FALSE)="","",(VLOOKUP($B16,対象賃金内訳!$A$7:$Q$16,2,FALSE))) | E16: =IF(D16="","",DATEDIF(D16,$N$1,"Y")) | G16: =IF(E16="","",(IF(E16<35,"○","×"))) | I16: =VLOOKUP($B16,対象賃金内訳!$A$7:$Q$16,10,FALSE) -> 0 | J16: =VLOOKUP($B16,対象賃金内訳!$A$7:$Q$16,17,FALSE) -> 0 | K16: =IF(D16="","",ROUNDDOWN((J16-I16)/I16,3)) | L16: =IF(K16="","",(IF(K16>=0.05,"○","×"))) | M16: =IF(AND(G16="○",(L16="○")),50000,0) -> 0
B17: 5 | C17: =IF(VLOOKUP($B17,対象賃金内訳!$A$7:$Q$16,2,FALSE)="","",(VLOOKUP($B17,対象賃金内訳!$A$7:$Q$16,2,FALSE))) | E17: =IF(D17="","",DATEDIF(D17,$N$1,"Y")) | G17: =IF(E17="","",(IF(E17<35,"○","×"))) | I17: =VLOOKUP($B17,対象賃金内訳!$A$7:$Q$16,10,FALSE) -> 0 | J17: =VLOOKUP($B17,対象賃金内訳!$A$7:$Q$16,17,FALSE) -> 0 | K17: =IF(D17="","",ROUNDDOWN((J17-I17)/I17,3)) | L17: =IF(K17="","",(IF(K17>=0.05,"○","×"))) | M17: =IF(AND(G17="○",(L17="○")),50000,0) -> 0
B18: 6 | C18: =IF(VLOOKUP($B18,対象賃金内訳!$A$7:$Q$16,2,FALSE)="","",(VLOOKUP($B18,対象賃金内訳!$A$7:$Q$16,2,FALSE))) | E18: =IF(D18="","",DATEDIF(D18,$N$1,"Y")) | G18: =IF(E18="","",(IF(E18<35,"○","×"))) | I18: =VLOOKUP($B18,対象賃金内訳!$A$7:$Q$16,10,FALSE) -> 0 | J18: =VLOOKUP($B18,対象賃金内訳!$A$7:$Q$16,17,FALSE) -> 0 | K18: =IF(D18="","",ROUNDDOWN((J18-I18)/I18,3)) | L18: =IF(K18="","",(IF(K18>=0.05,"○","×"))) | M18: =IF(AND(G18="○",(L18="○")),50000,0) -> 0
B19: 7 | C19: =IF(VLOOKUP($B19,対象賃金内訳!$A$7:$Q$16,2,FALSE)="","",(VLOOKUP($B19,対象賃金内訳!$A$7:$Q$16,2,FALSE))) | E19: =IF(D19="","",DATEDIF(D19,$N$1,"Y")) | G19: =IF(E19="","",(IF(E19<35,"○","×"))) | I19: =VLOOKUP($B19,対象賃金内訳!$A$7:$Q$16,10,FALSE) -> 0 | J19: =VLOOKUP($B19,対象賃金内訳!$A$7:$Q$16,17,FALSE) -> 0 | K19: =IF(D19="","",ROUNDDOWN((J19-I19)/I19,3)) | L19: =IF(K19="","",(IF(K19>=0.05,"○","×"))) | M19: =IF(AND(G19="○",(L19="○")),50000,0) -> 0
B20: 8 | C20: =IF(VLOOKUP($B20,対象賃金内訳!$A$7:$Q$16,2,FALSE)="","",(VLOOKUP($B20,対象賃金内訳!$A$7:$Q$16,2,FALSE))) | E20: =IF(D20="","",DATEDIF(D20,$N$1,"Y")) | G20: =IF(E20="","",(IF(E20<35,"○","×"))) | I20: =VLOOKUP($B20,対象賃金内訳!$A$7:$Q$16,10,FALSE) -> 0 | J20: =VLOOKUP($B20,対象賃金内訳!$A$7:$Q$16,17,FALSE) -> 0 | K20: =IF(D20="","",ROUNDDOWN((J20-I20)/I20,3)) | L20: =IF(K20="","",(IF(K20>=0.05,"○","×"))) | M20: =IF(AND(G20="○",(L20="○")),50000,0) -> 0
B21: 9 | C21: =IF(VLOOKUP($B21,対象賃金内訳!$A$7:$Q$16,2,FALSE)="","",(VLOOKUP($B21,対象賃金内訳!$A$7:$Q$16,2,FALSE))) | E21: =IF(D21="","",DATEDIF(D21,$N$1,"Y")) | G21: =IF(E21="","",(IF(E21<35,"○","×"))) | I21: =VLOOKUP($B21,対象賃金内訳!$A$7:$Q$16,10,FALSE) -> 0 | J21: =VLOOKUP($B21,対象賃金内訳!$A$7:$Q$16,17,FALSE) -> 0 | K21: =IF(D21="","",ROUNDDOWN((J21-I21)/I21,3)) | L21: =IF(K21="","",(IF(K21>=0.05,"○","×"))) | M21: =IF(AND(G21="○",(L21="○")),50000,0) -> 0
B22: 10 | C22: =IF(VLOOKUP($B22,対象賃金内訳!$A$7:$Q$16,2,FALSE)="","",(VLOOKUP($B22,対象賃金内訳!$A$7:$Q$16,2,FALSE))) | E22: =IF(D22="","",DATEDIF(D22,$N$1,"Y")) | G22: =IF(E22="","",(IF(E22<35,"○","×"))) | I22: =VLOOKUP($B22,対象賃金内訳!$A$7:$Q$16,10,FALSE) -> 0 | J22: =VLOOKUP($B22,対象賃金内訳!$A$7:$Q$16,17,FALSE) -> 0 | K22: =IF(D22="","",ROUNDDOWN((J22-I22)/I22,3)) | L22: =IF(K22="","",(IF(K22>=0.05,"○","×"))) | M22: =IF(AND(G22="○",(L22="○")),50000,0) -> 0
B23: 交付申請額 計 | M23: =SUM(M13:M22) -> 0
A26: =D3 -> 0 | B26: =D4 -> 0 | C26: =E7 -> 0 | D26: =G7 -> 0 | E26: =I8 -> 0 | F26: =M23 -> 0

Sheet  【記載例】（様式２）賃金引上げ計算書 
A1: 賃金引上げ計算書 | N1: 46113
B3: 法人名・屋号 | D3: 株式会社金沢工業
B4: 賃金引上げ対象労働者数 | D4: 3 | E4: 人 | N4: 時給
B5: 賃金締切日 | D5: 毎月 | E5: 末 | H5: 日
B6: 賃金支払日 | D6: 翌月 | E6: 25 | H6: 日
B7: 賃上げ後の最初の賃金支払日 | D7: 令和８年 | E7: 5 | F7: 月 | G7: 25 | H7: 日 | N7: 日給
B8: 申請する賃金引上げを行った対象労働者は、金沢市内の事業所に勤務する従業員です。 | J8: はい | N8: 週給
N9: 月給
B10: № | C10: 対象労働者氏名 | D10: 35歳未満（R8.4.1時点） | I10: 賃上げ率５％ | M10: 計 | N10: 年俸
D11: 生年月日 yyyy/mm/dd | E11: 年齢 | G11: ① | I11: 引上げ前の 最低賃金の対象となる賃金 A | J11: 引上げ後の 最低賃金の対象となる賃金 B | K11: 賃上げ率 (B-A)/A | L11: ②
B12: 例 | C12: 金沢 太郎 | D12: 34700 | E12: =IF(D12="","",DATEDIF(D12,$N$1,"Y")) -> 31 | G12: =IF(E12="","",(IF(E12<35,"○","×"))) -> ○ | I12: 200000 | J12: 210000 | K12: =IF(J12="","",ROUNDDOWN((J12-I12)/I12,3)) -> 0.05 | L12: =IF(K12="","",(IF(K12>=0.05,"○","×"))) -> ○ | M12: =IF(AND(G12="○",(L12="○")),50000,0) -> 50000
B13: 1 | C13: 広坂 一郎 | D13: 34819 | E13: =IF(D13="","",DATEDIF(D13,$N$1,"Y")) -> 30 | G13: =IF(E13="","",(IF(E13<35,"○","×"))) -> ○ | I13: 290000 | J13: 304500 | K13: =IF(J13="","",ROUNDDOWN((J13-I13)/I13,3)) -> 0.05 | L13: =IF(K13="","",(IF(K13>=0.05,"○","×"))) -> ○ | M13: =IF(AND(G13="○",(L13="○")),50000,0) -> 50000
B14: 2 | C14: 柿木 次郎 | D14: 36800 | E14: =IF(D14="","",DATEDIF(D14,$N$1,"Y")) -> 25 | G14: =IF(E14="","",(IF(E14<35,"○","×"))) -> ○ | I14: 230000 | J14: 241500 | K14: =IF(J14="","",ROUNDDOWN((J14-I14)/I14,3)) -> 0.05 | L14: =IF(K14="","",(IF(K14>=0.05,"○","×"))) -> ○ | M14: =IF(AND(G14="○",(L14="○")),50000,0) -> 50000
B15: 3 | C15: 畠 花子 | D15: 38540 | E15: =IF(D15="","",DATEDIF(D15,$N$1,"Y")) -> 20 | G15: =IF(E15="","",(IF(E15<35,"○","×"))) -> ○ | I15: 200000 | J15: 210000 | K15: =IF(J15="","",ROUNDDOWN((J15-I15)/I15,3)) -> 0.05 | L15: =IF(K15="","",(IF(K15>=0.05,"○","×"))) -> ○ | M15: =IF(AND(G15="○",(L15="○")),50000,0) -> 50000
B16: 4 | E16: =IF(D16="","",DATEDIF(D16,$N$1,"Y")) | G16: =IF(E16="","",(IF(E16<35,"○","×"))) | K16: =IF(J16="","",ROUNDDOWN((J16-I16)/I16,3)) | L16: =IF(K16="","",(IF(K16>=0.05,"○","×"))) | M16: =IF(AND(G16="○",(L16="○")),50000,0) -> 0
B17: 5 | E17: =IF(D17="","",DATEDIF(D17,$N$1,"Y")) | G17: =IF(E17="","",(IF(E17<35,"○","×"))) | K17: =IF(J17="","",ROUNDDOWN((J17-I17)/I17,3)) | L17: =IF(K17="","",(IF(K17>=0.05,"○","×"))) | M17: =IF(AND(G17="○",(L17="○")),50000,0) -> 0
B18: 6 | E18: =IF(D18="","",DATEDIF(D18,$N$1,"Y")) | G18: =IF(E18="","",(IF(E18<35,"○","×"))) | K18: =IF(J18="","",ROUNDDOWN((J18-I18)/I18,3)) | L18: =IF(K18="","",(IF(K18>=0.05,"○","×"))) | M18: =IF(AND(G18="○",(L18="○")),50000,0) -> 0
B19: 7 | E19: =IF(D19="","",DATEDIF(D19,$N$1,"Y")) | G19: =IF(E19="","",(IF(E19<35,"○","×"))) | K19: =IF(J19="","",ROUNDDOWN((J19-I19)/I19,3)) | L19: =IF(K19="","",(IF(K19>=0.05,"○","×"))) | M19: =IF(AND(G19="○",(L19="○")),50000,0) -> 0
B20: 8 | E20: =IF(D20="","",DATEDIF(D20,$N$1,"Y")) | G20: =IF(E20="","",(IF(E20<35,"○","×"))) | K20: =IF(J20="","",ROUNDDOWN((J20-I20)/I20,3)) | L20: =IF(K20="","",(IF(K20>=0.05,"○","×"))) | M20: =IF(AND(G20="○",(L20="○")),50000,0) -> 0
B21: 9 | E21: =IF(D21="","",DATEDIF(D21,$N$1,"Y")) | G21: =IF(E21="","",(IF(E21<35,"○","×"))) | K21: =IF(J21="","",ROUNDDOWN((J21-I21)/I21,3)) | L21: =IF(K21="","",(IF(K21>=0.05,"○","×"))) | M21: =IF(AND(G21="○",(L21="○")),50000,0) -> 0
B22: 10 | E22: =IF(D22="","",DATEDIF(D22,$N$1,"Y")) | G22: =IF(E22="","",(IF(E22<35,"○","×"))) | K22: =IF(J22="","",ROUNDDOWN((J22-I22)/I22,3)) | L22: =IF(K22="","",(IF(K22>=0.05,"○","×"))) | M22: =IF(AND(G22="○",(L22="○")),50000,0) -> 0
B23: 交付申請額 計 | M23: =SUM(M13:M22) -> 150000
A26: =D3 -> 株式会社金沢工業 | B26: =D4 -> 3 | C26: =E7 -> 5 | D26: =G7 -> 25 | E26: =I8 -> 0 | F26: =M23 -> 150000

Sheet 対象賃金内訳
A1: 対象賃金内訳
A3: № | B3: 対象労働者氏名 | C3: １月の 平均所定 労働時間 ※ | D3: 賃金引上げ前 | K3: 賃金引上げ後 | R3: 前 | S3: 後
D4: 基本給 | E4: 手当 | J4: 合計 | K4: 基本給 | L4: 手当 | Q4: 合計 | R4: 時間当たり 賃金 | S4: 時間当たり 賃金
E5: 手当 | F5: 手当 | G5: 手当 | H5: 手当 | I5: 手当 | L5: 手当 | M5: 手当 | N5: 手当 | O5: 手当 | P5: 手当
A6: 例 | B6: 金沢 太郎 | C6: 160 | D6: 190000 | E6: 10000 | J6: =SUM(D6:I6) -> 200000 | K6: 200000 | L6: 10000 | Q6: =SUM(K6:P6) -> 210000 | R6: =J6/C6 -> 1250 | S6: =Q6/C6 -> 1312.5
A7: 1 | J7: =SUM(D7:I7) -> 0 | Q7: =SUM(K7:P7) -> 0 | R7: =IF(B7="","",(J7/C7)) | S7: =IF(B7="","",(Q7/C7)) | T7: =IF(B7="","",ROUNDDOWN((Q7-J7)/J7,3)*100)
A8: 2 | J8: =SUM(D8:I8) -> 0 | Q8: =SUM(K8:P8) -> 0 | R8: =IF(B8="","",(J8/C8)) | S8: =IF(B8="","",(Q8/C8)) | T8: =IF(B8="","",ROUNDDOWN((Q8-J8)/J8,3)*100)
A9: 3 | J9: =SUM(D9:I9) -> 0 | Q9: =SUM(K9:P9) -> 0 | R9: =IF(B9="","",(J9/C9)) | S9: =IF(B9="","",(Q9/C9)) | T9: =IF(B9="","",ROUNDDOWN((Q9-J9)/J9,3)*100)
A10: 4 | J10: =SUM(D10:I10) -> 0 | Q10: =SUM(K10:P10) -> 0 | R10: =IF(B10="","",(J10/C10)) | S10: =IF(B10="","",(Q10/C10)) | T10: =IF(B10="","",ROUNDDOWN((Q10-J10)/J10,3)*100)
A11: 5 | J11: =SUM(D11:I11) -> 0 | Q11: =SUM(K11:P11) -> 0 | R11: =IF(B11="","",(J11/C11)) | S11: =IF(B11="","",(Q11/C11)) | T11: =IF(B11="","",ROUNDDOWN((Q11-J11)/J11,3)*100)
A12: 6 | J12: =SUM(D12:I12) -> 0 | Q12: =SUM(K12:P12) -> 0 | R12: =IF(B12="","",(J12/C12)) | S12: =IF(B12="","",(Q12/C12)) | T12: =IF(B12="","",ROUNDDOWN((Q12-J12)/J12,3)*100)
A13: 7 | J13: =SUM(D13:I13) -> 0 | Q13: =SUM(K13:P13) -> 0 | R13: =IF(B13="","",(J13/C13)) | S13: =IF(B13="","",(Q13/C13)) | T13: =IF(B13="","",ROUNDDOWN((Q13-J13)/J13,3)*100)
A14: 8 | J14: =SUM(D14:I14) -> 0 | Q14: =SUM(K14:P14) -> 0 | R14: =IF(B14="","",(J14/C14)) | S14: =IF(B14="","",(Q14/C14)) | T14: =IF(B14="","",ROUNDDOWN((Q14-J14)/J14,3)*100)
A15: 9 | J15: =SUM(D15:I15) -> 0 | Q15: =SUM(K15:P15) -> 0 | R15: =IF(B15="","",(J15/C15)) | S15: =IF(B15="","",(Q15/C15)) | T15: =IF(B15="","",ROUNDDOWN((Q15-J15)/J15,3)*100)
A16: 10 | J16: =SUM(D16:I16) -> 0 | Q16: =SUM(K16:P16) -> 0 | R16: =IF(B16="","",(J16/C16)) | S16: =IF(B16="","",(Q16/C16)) | T16: =IF(B16="","",ROUNDDOWN((Q16-J16)/J16,3)*100)
A18: １月の平均所定 労働時間の計算
A20: ※１年単位の変形労働時間制を適用している月給制の場合は、監督署に届け出られた年間カレンダー等により、年単位の休日等を元に月平均の所定労働時間を記載してください。
A21: ※１か月単位の変形労働時間制を適用している月給制の場合は、会社カレンダー等により、月平均の所定労働時間を記載してください。

Sheet  【記載例】対象賃金内訳
A1: 対象賃金内訳
A3: № | B3: 対象労働者氏名 | C3: １月の 平均所定 労働時間 ※ | D3: 賃金引上げ前 | K3: 賃金引上げ後 | R3: 前 | S3: 後
D4: 基本給 | E4: 手当 | J4: 計 | K4: 基本給 | L4: 手当 | Q4: 計 | R4: 時間 当たり 賃金 | S4: 時間 当たり 賃金
E5: □□手当 | F5: 手当 | G5: 手当 | H5: 手当 | I5: 手当 | L5: □□手当 | M5: ○○手当 | N5: 手当 | O5: 手当 | P5: 手当
A6: 例 | B6: 金沢 太郎 | C6: 160 | D6: 190000 | E6: 10000 | J6: =SUM(D6:I6) -> 200000 | K6: 200000 | L6: 10000 | Q6: =SUM(K6:P6) -> 210000 | R6: =J6/C6 -> 1250 | S6: =Q6/C6 -> 1312.5
A7: 1 | B7: 広坂 一郎 | C7: 173 | D7: 280000 | E7: 10000 | J7: =SUM(D7:I7) -> 290000 | K7: 290000 | L7: 10000 | M7: 4500 | Q7: =SUM(K7:P7) -> 304500 | R7: =IF(B7="","",(J7/C7)) -> 1676.3006 | S7: =IF(B7="","",(Q7/C7)) -> 1760.1156 | T7: =IF(B7="","",ROUNDDOWN((Q7-J7)/J7,3))*100 -> 5
A8: 2 | B8: 柿木 次郎 | C8: 173 | D8: 220000 | E8: 10000 | J8: =SUM(D8:I8) -> 230000 | K8: 231500 | L8: 10000 | Q8: =SUM(K8:P8) -> 241500 | R8: =IF(B8="","",(J8/C8)) -> 1329.4798 | S8: =IF(B8="","",(Q8/C8)) -> 1395.9538 | T8: =IF(B8="","",ROUNDDOWN((Q8-J8)/J8,3))*100 -> 5
A9: 3 | B9: 畠 花子 | C9: 173 | D9: 195000 | E9: 5000 | J9: =SUM(D9:I9) -> 200000 | K9: 205000 | L9: 5000 | Q9: =SUM(K9:P9) -> 210000 | R9: =IF(B9="","",(J9/C9)) -> 1156.0694 | S9: =IF(B9="","",(Q9/C9)) -> 1213.8728 | T9: =IF(B9="","",ROUNDDOWN((Q9-J9)/J9,3)*100) -> 5
A10: 4 | J10: =SUM(D10:I10) -> 0 | Q10: =SUM(K10:P10) -> 0 | R10: =IF(B10="","",(J10/C10)) | S10: =IF(B10="","",(Q10/C10)) | T10: =IF(B10="","",ROUNDDOWN((Q10-J10)/J10,3)*100)
A11: 5 | J11: =SUM(D11:I11) -> 0 | Q11: =SUM(K11:P11) -> 0 | R11: =IF(B11="","",(J11/C11)) | S11: =IF(B11="","",(Q11/C11)) | T11: =IF(B11="","",ROUNDDOWN((Q11-J11)/J11,3)*100)
A12: 6 | J12: =SUM(D12:I12) -> 0 | Q12: =SUM(K12:P12) -> 0 | R12: =IF(B12="","",(J12/C12)) | S12: =IF(B12="","",(Q12/C12)) | T12: =IF(B12="","",ROUNDDOWN((Q12-J12)/J12,3)*100)
A13: 7 | J13: =SUM(D13:I13) -> 0 | Q13: =SUM(K13:P13) -> 0 | R13: =IF(B13="","",(J13/C13)) | S13: =IF(B13="","",(Q13/C13)) | T13: =IF(B13="","",ROUNDDOWN((Q13-J13)/J13,3)*100)
A14: 8 | J14: =SUM(D14:I14) -> 0 | Q14: =SUM(K14:P14) -> 0 | R14: =IF(B14="","",(J14/C14)) | S14: =IF(B14="","",(Q14/C14)) | T14: =IF(B14="","",ROUNDDOWN((Q14-J14)/J14,3)*100)
A15: 9 | J15: =SUM(D15:I15) -> 0 | Q15: =SUM(K15:P15) -> 0 | R15: =IF(B15="","",(J15/C15)) | S15: =IF(B15="","",(Q15/C15)) | T15: =IF(B15="","",ROUNDDOWN((Q15-J15)/J15,3)*100)
A16: 10 | J16: =SUM(D16:I16) -> 0 | Q16: =SUM(K16:P16) -> 0 | R16: =IF(B16="","",(J16/C16)) | S16: =IF(B16="","",(Q16/C16)) | T16: =IF(B16="","",ROUNDDOWN((Q16-J16)/J16,3)*100)
A18: １月の平均所定 労働時間の算出 | C18: １日の労働時間８H、年間労働日数２６０日 ８H×260日÷12か月＝月平均173.33時間
A20: ※１年単位の変形労働時間制を適用している月給制の場合は、監督署に届け出られた年間カレンダー等により、年単位の休日等を元に月平均の所定労働時間を記載してください。
A21: ※１か月単位の変形労働時間制を適用している月給制の場合は、会社カレンダー等により、月平均の所定労働時間を記載してください。
