Workbook

Sheet 申請書(1)
AU2: 令和 | BB2: 年 | BG2: 月 | BL2: 日
B3: （あて先）金沢市長
A5: 金沢市中小企業人材確保奨学金返還支援助成金交付申請書
A9: 金沢市中小企業人材確保奨学金返還支援助成金事業実施要綱に定める助成金支給に係る要件を承諾の上、助成金の支給を受けたいので、次のとおり申請します。
A14: １．申請者
A16: 1 | D16: 事業所名
A20: 2 | D20: 所在地 | R20: 〒
A24: 3 | D24: 代表者職・氏名
A28: 4 | D28: 雇用保険者番号 | AH28: 5 | AK28: 担当者名
A32: 6 | D32: 連絡先（TEL） | AD32: （E-mail）
A36: 7 | D36: 奨学金返還支援制度実施届出書について（初回時のみ） | AK36: 届出済 | AZ36: 本申請書と同時に提出
A40: 8 | D40: 交付対象期間において、対象従業員を雇用した日から継続して正規雇用労働者として雇用している。
A44: 9 | D44: 国、県又は金沢市が出資による権利を有する事業所の事業主ではない。
A48: 10 | D48: 暴力団又は暴力団員が経営に関与し、又は密接な関係を有していない。
A52: 11 | D52: 対象従業員について、奨学金の返還を延滞していない。
A56: 12 | D56: 対象従業員の奨学金について、他の制度による支援を重複して受けていない（予定も含む）。
A60: 13 | D60: 奨学金返還支援制度について、対象従業員が退職した場合に、返還支援額の全部又は一部について、当該従業員に返還の義務を負わせる条件を付していない。
A65: ２．市税滞納有無等確認調書
B66: 本申請の資格審査のため、市税滞納の有無について調査されることを承諾します。
C67: ※出向先事業所が市外の場合は、金沢市での課税状況の確認となります。
B68: 本申請の記載内容について、市が助成金交付事務のため国や出向契約の相手方等に
B69: 照会・確認すること に同意します。
C71: （申請事業主）
G72: 住所
G74: 名称
G76: 代表者名
G77: (署名又は記名押印)
B81: 処理欄
D84: １．交付決定日 | AA84: 令和 年 月 日
D87: ２．交付決定額(A)
D90: ３．交付限度額(B) | AA90: 1600000
D93: ４．既交付額(C)
D96: ５．交付可能額(B)-((C)+(A))

Sheet 申請書(2)-１回目
A1: ３．奨学金返還支援の内容
A2: 支給名目 | T2: 年間支給回数・時期 | AM2: 初回の対象期間 | BF2: 本申請の対象期間
A10: （注１）「支給名目」欄は、「○○手当」や「賞与への上乗せ」などと記載してください。
A11: （注２）「年間給付回数・時期」欄は、「毎月」、「年○回（□月，△月）」などと記載してください。
A13: ４．対象従業員名簿
D14: 氏名 | O14: 生年月日 | Z14: 雇用年月日 | AK14: 住所 | BE14: 奨学金の種類 | BP14: 奨学金返還額 （１回目） | BZ14: 返還支援額 （１回目）
Z16: 新規就業者・転職者 | BE16: 校種
A18: 1 | BX18: 円 | CH18: 円
A22: 2 | BX22: 円 | CH22: 円
A26: 3 | BX26: 円 | CH26: 円
A30: 4 | BX30: 円 | CH30: 円
A34: （注３）「校種」には、奨学金の貸与条件とされる学校「大学、大学院、短期大学、高等専門学校、高等学校、専修学校」などと記載してください。 | BU34: 合計 | BZ34: =SUM(BZ18:CG33) -> 0 | CH34: 円
A36: ５．年度１回目の交付決定額 | Z36: 0 | AW36: 円 | AZ36: ＊１事業主あたりの交付額上限額は年間160万円であり、これを超えると申請できません。
A38: ６．対象従業員についての確認
A40: 1 | D40: 新規就業者の場合 （大学等を卒業後初めて雇用された方） | AG40: 雇用日時点において、大学等を卒業後初めての就職である。
AG42: 市外支店で現地採用された市外在住の従業員ではない。
A44: 2 | D44: 転職者の場合 （新規就業者以外の場合） | AG44: 直前の就業先が県内に本社を有する企業ではない。
AG46: 市外支店で現地採用された市外在住の従業員ではない。

Sheet 申請書(2)-２回目以降
A1: ３．奨学金返還支援の内容
A2: 支給名目 | T2: 年間支給回数・時期 | AM2: 初回の対象期間 | BF2: 本申請の対象期間
A6: ='申請書(2)-１回目'!A6:S9&"" | T6: ='申請書(2)-１回目'!T6:AL9&""
A10: （注１）「支給名目」欄は、「○○手当」や「賞与への上乗せ」などと記載してください。
A11: （注２）「年間給付回数・時期」欄は、「毎月」、「年○回（□月，△月）」などと記載してください。
A13: ４．対象従業員名簿
D14: 氏名 | O14: 生年月日 | Z14: 雇用年月日 | AK14: 住所 | BE14: 奨学金の種類 | BP14: 奨学金返還額 （１回目） | BZ14: 返還支援額 （１回目） | CJ14: 奨学金返還 （ 回目） | CT14: 返還支援額 （ 回目）
Z16: 新規就業者・転職者 | BE16: 校種
A18: 1 | D18: ='申請書(2)-１回目'!$D$18:$N$21&"" | O18: ='申請書(2)-１回目'!O18:Y21&"" | Z18: ='申請書(2)-１回目'!Z18:AJ19&"" | AK18: ='申請書(2)-１回目'!AK18:BD21&"" | BE18: ='申請書(2)-１回目'!BE18:BO19&"" | BP18: =TEXT('申請書(2)-１回目'!BP18:BW21,"#,###")&"" | BX18: 円 | BZ18: =TEXT('申請書(2)-１回目'!BZ18:CG21,"#,###")&"" | CH18: 円 | CR18: 円 | DB18: 円
Z20: ='申請書(2)-１回目'!Z20:AJ21&" " | BE20: ='申請書(2)-１回目'!BE20:BO21&""
A22: 2 | D22: ='申請書(2)-１回目'!D22:N25&"" | O22: ='申請書(2)-１回目'!O22:Y25&"" | Z22: ='申請書(2)-１回目'!Z22:AJ23&"" | AK22: ='申請書(2)-１回目'!AK22:BD25&"" | BE22: ='申請書(2)-１回目'!BE22:BO23&"" | BP22: =TEXT('申請書(2)-１回目'!BP22:BW25,"#,###")&"" | BX22: 円 | BZ22: =TEXT('申請書(2)-１回目'!BZ22:CG25,"#,###")&"" | CH22: 円 | CR22: 円 | DB22: 円
Z24: ='申請書(2)-１回目'!Z24:AJ25&" " | BE24: ='申請書(2)-１回目'!BE24:BO25&""
A26: 3 | D26: ='申請書(2)-１回目'!D26:N29&"" | O26: ='申請書(2)-１回目'!O26:Y29&"" | Z26: ='申請書(2)-１回目'!Z26:AJ27&"" | AK26: ='申請書(2)-１回目'!AK26:BD29&"" | BE26: ='申請書(2)-１回目'!BE26:BO27&"" | BP26: =TEXT('申請書(2)-１回目'!BP26:BW29,"#,###")&"" | BX26: 円 | BZ26: =TEXT('申請書(2)-１回目'!BZ26:CG29,"#,###")&"" | CH26: 円 | CR26: 円 | DB26: 円
Z28: ='申請書(2)-１回目'!Z28:AJ29&" " | BE28: ='申請書(2)-１回目'!BE28:BO29&""
A30: 4 | D30: ='申請書(2)-１回目'!D30:N33&"" | O30: ='申請書(2)-１回目'!O30:Y33&"" | Z30: ='申請書(2)-１回目'!Z30:AJ31&"" | AK30: ='申請書(2)-１回目'!AK30:BD33&"" | BE30: ='申請書(2)-１回目'!BE30:BO31&"" | BP30: =TEXT('申請書(2)-１回目'!BP30:BW33,"#,###")&"" | BX30: 円 | BZ30: =TEXT('申請書(2)-１回目'!BZ30:CG33,"#,###")&"" | CH30: 円 | CR30: 円 | DB30: 円
Z32: ='申請書(2)-１回目'!Z32:AJ33&" " | BE32: ='申請書(2)-１回目'!BE32:BO33&""
A34: （注３）「校種」には、奨学金の貸与条件とされる学校「大学、大学院、短期大学、高等専門学校、高等学校、専修学校」などと記載してください。 | BU34: 合計 | BZ34: =TEXT('申請書(2)-１回目'!BZ34:CG36,"#,###")&"" | CH34: 円 | CO34: 合計 | CT34: =SUM(CT18:DA33) -> 0 | DB34: 円
A36: ５．年度 回目までの交付決定額 | AW36: 円 | AZ36: ＊１事業主あたりの交付額上限額は年間160万円であり、これを超えると申請できません。
A38: ６．対象従業員についての確認
A40: 1 | D40: 新規就業者の場合 （大学等を卒業後初めて雇用された方） | AG40: 雇用日時点において、大学等を卒業後初めての就職である。
AG42: 市外支店で現地採用された市外在住の従業員ではない。
A44: 2 | D44: 転職者の場合 （新規就業者以外の場合） | AG44: 直前の就業先が県内に本社を有する企業ではない。
AG46: 市外支店で現地採用された市外在住の従業員ではない。
AG48: 直前の就業先が県内に本社を有する企業ではない。

Sheet チェック表
A2: 申請書類チェック表 | BH2: チェック欄
A5: 奨学金返還支援制度を創設された際（既にご提出いただいてる場合は✓不要です）
A8: 1 | D8: 奨学金返還支援制度実施届出書
A11: 2 | D11: 中小企業事業主であることを確認する書類 【法人の場合】登記簿謄本など 【個人事業主の場合】確定申告書の収支内訳書、開業届出書など（従業員数がわかるもの）
A17: 3 | D17: 就業規則又は賃金規程など手当等の支給根拠がわかる書類
A20: 本申請書にあわせて提出いただく書類
A23: 1 | D23: 対象従業員の労働条件通知書又は雇用契約書の写し
A26: 2 | D26: 雇用保険被保険者資格取得等確認通知書(本人通知用)の写し
A29: 3 | D29: 奨学金の返還を証する書類
A32: 4 | D32: 退職証明書（県外に主たる事務所を有する事業所からの転職の場合）
A35: 5 | D35: 対象従業員賃金台帳の写し
A38: 6 | D38: 請求書
A41: ※１～６までの書類についてご不明な点がありましたら、金沢市経済局商工労働課(076-220-2199)まで お問合せください。
